BEGIN:VCALENDAR
VERSION:2.0
PRODID:-//NORTH Consulting - ECPv6.8.3//NONSGML v1.0//EN
CALSCALE:GREGORIAN
METHOD:PUBLISH
X-WR-CALNAME:NORTH Consulting
X-ORIGINAL-URL:https://northconsulting.is/en
X-WR-CALDESC:Events for NORTH Consulting
REFRESH-INTERVAL;VALUE=DURATION:PT1H
X-Robots-Tag:noindex
X-PUBLISHED-TTL:PT1H
BEGIN:VTIMEZONE
TZID:UTC
BEGIN:STANDARD
TZOFFSETFROM:+0000
TZOFFSETTO:+0000
TZNAME:UTC
DTSTART:20240101T000000
END:STANDARD
END:VTIMEZONE
BEGIN:VEVENT
DTSTART;TZID=UTC:20250128T150000
DTEND;TZID=UTC:20250128T160000
DTSTAMP:20260421T221354
CREATED:20250121T093619Z
LAST-MODIFIED:20250121T100458Z
UID:1980-1738076400-1738080000@northconsulting.is
SUMMARY:Veffundur - Líf sem er lífsins virði
DESCRIPTION:Þriðjudaginn 28. janúar milli 15-16 verður haldinn veffundur um verkefnið og samnefnt námskeið „Líf sem er lífsins virði: að hugsa um stjórnendur og kennara.“ \nLíf sem er lífsins virði er ný nálgun í að leita svara við spurningum um tilgang lífsins og hvað það er sem gerir líf okkar merkingarbært.  Nýlega lauk 9 mánðaða tilraunakennslu námskeiðsins sem 12 kennarar og skólastjórnendur  alls staðar að af landinu tóku þátt í.  Á fundinum verður farið yfir aðferðafræðina sem Líf sem er lífsins virði byggir á og hvernig sú aðferðafræði getur nýst í persónulegu lífi og faglegu starfi.  Tveir þátttakendur munu einnig segja stuttlega frá reynslu sinni af þátttöku. \nSkráðu þig til þátttöku hér: \n  \n 
URL:https://northconsulting.is/en/event/veffundur-lif-sem-er-lifsins-virdi/
ORGANIZER;CN="NORTH Consulting":MAILTO:info@northconsulting.is
END:VEVENT
BEGIN:VEVENT
DTSTART;TZID=UTC:20241218T170000
DTEND;TZID=UTC:20241218T190000
DTSTAMP:20260421T221354
CREATED:20241124T135721Z
LAST-MODIFIED:20241209T160852Z
UID:628-1734541200-1734548400@northconsulting.is
SUMMARY:Jólahátíð NORTH
DESCRIPTION:Mæja tekur lagið.
URL:https://northconsulting.is/en/event/jolahatid-north/
LOCATION:Skrifstofa NORTH\, Hafnarhús\, Tryggvagata 17\, Reykjavík\, 101\, Iceland
ORGANIZER;CN="NORTH Consulting":MAILTO:info@northconsulting.is
END:VEVENT
END:VCALENDAR